BEGIN:VCALENDAR
VERSION:2.0
PRODID:-//待光庵 - ECPv4.8.2//NONSGML v1.0//EN
CALSCALE:GREGORIAN
METHOD:PUBLISH
X-WR-CALNAME:待光庵
X-ORIGINAL-URL:https://www.taikoan.jp
X-WR-CALDESC:Events for 待光庵
BEGIN:VEVENT
DTSTART;TZID=Asia/Tokyo:20250929T180000
DTEND;TZID=Asia/Tokyo:20250929T180000
DTSTAMP:20260423T052928
CREATED:20250928T003012Z
LAST-MODIFIED:20250928T003726Z
UID:13183-1759168800-1759168800@www.taikoan.jp
SUMMARY:芳月会月夜-10月①
DESCRIPTION:
URL:https://www.taikoan.jp/event/%e8%8a%b3%e6%9c%88%e4%bc%9a%e6%9c%88%e5%a4%9c-1-106/
LOCATION:直心庵\, 南区相模大野3-13-13 第2タカビル\, 相模原市\, 神奈川県\, 252-0303\, Japan
CATEGORIES:茶道教室
END:VEVENT
END:VCALENDAR