BEGIN:VCALENDAR
VERSION:2.0
PRODID:-//待光庵 - ECPv4.8.2//NONSGML v1.0//EN
CALSCALE:GREGORIAN
METHOD:PUBLISH
X-WR-CALNAME:待光庵
X-ORIGINAL-URL:https://www.taikoan.jp
X-WR-CALDESC:Events for 待光庵
BEGIN:VEVENT
DTSTART;VALUE=DATE:20140407
DTEND;VALUE=DATE:20140408
DTSTAMP:20260420T075814
CREATED:20140326T023215Z
LAST-MODIFIED:20140326T023215Z
UID:1180-1396828800-1396915199@www.taikoan.jp
SUMMARY:芳月会月夜-1
DESCRIPTION:
URL:https://www.taikoan.jp/event/%e8%8a%b3%e6%9c%88%e4%bc%9a%e6%9c%88%e5%a4%9c-1/
CATEGORIES:茶道教室
END:VEVENT
END:VCALENDAR