BEGIN:VCALENDAR
VERSION:2.0
PRODID:-//待光庵 - ECPv4.8.2//NONSGML v1.0//EN
CALSCALE:GREGORIAN
METHOD:PUBLISH
X-WR-CALNAME:待光庵
X-ORIGINAL-URL:https://www.taikoan.jp
X-WR-CALDESC:Events for 待光庵
BEGIN:VEVENT
DTSTART;TZID=Asia/Tokyo:20190603T180000
DTEND;TZID=Asia/Tokyo:20190603T223000
DTSTAMP:20260420T233645
CREATED:20190603T093152Z
LAST-MODIFIED:20190603T093152Z
UID:7817-1559584800-1559601000@www.taikoan.jp
SUMMARY:芳月会月夜-5月③
DESCRIPTION:
URL:https://www.taikoan.jp/event/%e8%8a%b3%e6%9c%88%e4%bc%9a%e6%9c%88%e5%a4%9c-5%e6%9c%88%e2%91%a2/
LOCATION:直心庵\, 南区相模大野3-13-13 第2タカビル\, 相模原市\, 神奈川県\, 252-0303\, Japan
CATEGORIES:茶道教室
END:VEVENT
END:VCALENDAR