BEGIN:VCALENDAR
VERSION:2.0
PRODID:-//待光庵 - ECPv4.8.2//NONSGML v1.0//EN
CALSCALE:GREGORIAN
METHOD:PUBLISH
X-WR-CALNAME:待光庵
X-ORIGINAL-URL:https://www.taikoan.jp
X-WR-CALDESC:Events for 待光庵
BEGIN:VEVENT
DTSTART;VALUE=DATE:20140417
DTEND;VALUE=DATE:20140418
DTSTAMP:20260420T092134
CREATED:20140326T023453Z
LAST-MODIFIED:20140326T023453Z
UID:1188-1397692800-1397779199@www.taikoan.jp
SUMMARY:芳月会木昼-2
DESCRIPTION:
URL:https://www.taikoan.jp/event/%e8%8a%b3%e6%9c%88%e4%bc%9a%e6%9c%a8%e6%98%bc-2/
CATEGORIES:茶道教室
END:VEVENT
END:VCALENDAR