BEGIN:VCALENDAR
VERSION:2.0
PRODID:-//待光庵 - ECPv4.8.2//NONSGML v1.0//EN
CALSCALE:GREGORIAN
METHOD:PUBLISH
X-WR-CALNAME:待光庵
X-ORIGINAL-URL:https://www.taikoan.jp
X-WR-CALDESC:Events for 待光庵
BEGIN:VEVENT
DTSTART;TZID=Asia/Tokyo:20180209T180000
DTEND;TZID=Asia/Tokyo:20180209T180000
DTSTAMP:20260420T230045
CREATED:20180120T061403Z
LAST-MODIFIED:20180120T070949Z
UID:6084-1518199200-1518199200@www.taikoan.jp
SUMMARY:芳月会金夜-1
DESCRIPTION:稽古科目 \n濃茶：大炉・逆勝手運び点前 \n薄茶：逆勝手運び点前 \n
URL:https://www.taikoan.jp/event/%e8%8a%b3%e6%9c%88%e4%bc%9a%e9%87%91%e5%a4%9c-1-34/
LOCATION:待光庵\, 南区相模大野3-13-13 第2タカビル\, 相模原市\, 神奈川県\, 252-0303\, Japan
CATEGORIES:茶道教室
END:VEVENT
END:VCALENDAR