BEGIN:VCALENDAR
VERSION:2.0
PRODID:-//待光庵 - ECPv4.8.2//NONSGML v1.0//EN
CALSCALE:GREGORIAN
METHOD:PUBLISH
X-WR-CALNAME:待光庵
X-ORIGINAL-URL:https://www.taikoan.jp
X-WR-CALDESC:Events for 待光庵
BEGIN:VEVENT
DTSTART;VALUE=DATE:20140411
DTEND;VALUE=DATE:20140412
DTSTAMP:20260420T133727
CREATED:20140326T023354Z
LAST-MODIFIED:20140326T023354Z
UID:1185-1397174400-1397260799@www.taikoan.jp
SUMMARY:芳月会金夜-1
DESCRIPTION:
URL:https://www.taikoan.jp/event/%e8%8a%b3%e6%9c%88%e4%bc%9a%e9%87%91%e5%a4%9c-1/
CATEGORIES:茶道教室
END:VEVENT
END:VCALENDAR