BEGIN:VCALENDAR
VERSION:2.0
PRODID:-//待光庵 - ECPv4.8.2//NONSGML v1.0//EN
CALSCALE:GREGORIAN
METHOD:PUBLISH
X-WR-CALNAME:待光庵
X-ORIGINAL-URL:https://www.taikoan.jp
X-WR-CALDESC:Events for 待光庵
BEGIN:VEVENT
DTSTART;VALUE=DATE:20140425
DTEND;VALUE=DATE:20140426
DTSTAMP:20260420T055420
CREATED:20140326T023801Z
LAST-MODIFIED:20140326T023801Z
UID:1198-1398384000-1398470399@www.taikoan.jp
SUMMARY:芳月会金夜-3
DESCRIPTION:
URL:https://www.taikoan.jp/event/%e8%8a%b3%e6%9c%88%e4%bc%9a%e9%87%91%e5%a4%9c-3/
CATEGORIES:茶道教室
END:VEVENT
END:VCALENDAR