BEGIN:VCALENDAR
VERSION:2.0
PRODID:-//待光庵 - ECPv4.8.2//NONSGML v1.0//EN
CALSCALE:GREGORIAN
METHOD:PUBLISH
X-WR-CALNAME:待光庵
X-ORIGINAL-URL:https://www.taikoan.jp
X-WR-CALDESC:Events for 待光庵
BEGIN:VEVENT
DTSTART;TZID=Asia/Tokyo:20170317T100000
DTEND;TZID=Asia/Tokyo:20170317T100000
DTSTAMP:20260420T195008
CREATED:20170218T074837Z
LAST-MODIFIED:20170228T084307Z
UID:4558-1489744800-1489744800@www.taikoan.jp
SUMMARY:芳月会金昼-3（茶飯釜茶事）
DESCRIPTION:
URL:https://www.taikoan.jp/event/%e8%8a%b3%e6%9c%88%e4%bc%9a%e9%87%91%e6%98%bc-3-27/
LOCATION:直心庵\, 南区相模大野3-13-13 第2タカビル\, 相模原市\, 神奈川県\, 252-0303\, Japan
CATEGORIES:茶道教室
END:VEVENT
END:VCALENDAR