BEGIN:VCALENDAR
VERSION:2.0
PRODID:-//待光庵 - ECPv4.8.2//NONSGML v1.0//EN
CALSCALE:GREGORIAN
METHOD:PUBLISH
X-WR-CALNAME:待光庵
X-ORIGINAL-URL:https://www.taikoan.jp
X-WR-CALDESC:Events for 待光庵
BEGIN:VEVENT
DTSTART;VALUE=DATE:20140413
DTEND;VALUE=DATE:20140414
DTSTAMP:20260420T115258
CREATED:20140326T022602Z
LAST-MODIFIED:20140326T022602Z
UID:1167-1397347200-1397433599@www.taikoan.jp
SUMMARY:芳月会食事会
DESCRIPTION:
URL:https://www.taikoan.jp/event/%e8%8a%b3%e6%9c%88%e4%bc%9a%e9%a3%9f%e4%ba%8b%e4%bc%9a/
CATEGORIES:行事
END:VEVENT
END:VCALENDAR