BEGIN:VCALENDAR
VERSION:2.0
PRODID:-//待光庵 - ECPv4.8.2//NONSGML v1.0//EN
CALSCALE:GREGORIAN
METHOD:PUBLISH
X-WR-CALNAME:待光庵
X-ORIGINAL-URL:https://www.taikoan.jp
X-WR-CALDESC:Events for 待光庵
BEGIN:VEVENT
DTSTART;TZID=Asia/Tokyo:20250622T100000
DTEND;TZID=Asia/Tokyo:20250622T100000
DTSTAMP:20260423T170103
CREATED:20250429T115112Z
LAST-MODIFIED:20250429T115241Z
UID:12958-1750586400-1750586400@www.taikoan.jp
SUMMARY:茶の湯の風
DESCRIPTION:
URL:https://www.taikoan.jp/event/%e8%8c%b6%e3%81%ae%e6%b9%af%e3%81%ae%e9%a2%a8-17/
LOCATION:芳月\, 南区相模大野3-13-13 第2タカビル\, 相模原市\, 神奈川県\, 252-0303\, Japan
CATEGORIES:行事
END:VEVENT
END:VCALENDAR