BEGIN:VCALENDAR
VERSION:2.0
PRODID:-//待光庵 - ECPv4.8.2//NONSGML v1.0//EN
CALSCALE:GREGORIAN
METHOD:PUBLISH
X-WR-CALNAME:待光庵
X-ORIGINAL-URL:https://www.taikoan.jp
X-WR-CALDESC:Events for 待光庵
BEGIN:VEVENT
DTSTART;TZID=Asia/Tokyo:20140217T080000
DTEND;TZID=Asia/Tokyo:20140217T170000
DTSTAMP:20260420T073746
CREATED:20140217T054754Z
LAST-MODIFIED:20140217T054754Z
UID:622-1392624000-1392656400@www.taikoan.jp
SUMMARY:茶事教室
DESCRIPTION:いつもここでやります。 \n
URL:https://www.taikoan.jp/event/%e8%8c%b6%e4%ba%8b%e6%95%99%e5%ae%a4/
CATEGORIES:茶道教室
END:VEVENT
END:VCALENDAR