BEGIN:VCALENDAR
VERSION:2.0
PRODID:-//待光庵 - ECPv4.8.2//NONSGML v1.0//EN
CALSCALE:GREGORIAN
METHOD:PUBLISH
X-WR-CALNAME:待光庵
X-ORIGINAL-URL:https://www.taikoan.jp
X-WR-CALDESC:Events for 待光庵
BEGIN:VEVENT
DTSTART;TZID=Asia/Tokyo:20170928T100000
DTEND;TZID=Asia/Tokyo:20170928T100000
DTSTAMP:20260421T231711
CREATED:20170811T084703Z
LAST-MODIFIED:20170811T084703Z
UID:5155-1506592800-1506592800@www.taikoan.jp
SUMMARY:茶事教室3-3
DESCRIPTION:
URL:https://www.taikoan.jp/event/%e8%8c%b6%e4%ba%8b%e6%95%99%e5%ae%a43-3/
LOCATION:待光庵\, 南区相模大野3-13-13 第2タカビル\, 相模原市\, 神奈川県\, 252-0303\, Japan
CATEGORIES:行事
END:VEVENT
END:VCALENDAR