BEGIN:VCALENDAR
VERSION:2.0
PRODID:-//待光庵 - ECPv4.8.2//NONSGML v1.0//EN
CALSCALE:GREGORIAN
METHOD:PUBLISH
X-WR-CALNAME:待光庵
X-ORIGINAL-URL:https://www.taikoan.jp
X-WR-CALDESC:Events for 待光庵
BEGIN:VEVENT
DTSTART;TZID=Asia/Tokyo:20170531T100000
DTEND;TZID=Asia/Tokyo:20170531T100000
DTSTAMP:20260421T045207
CREATED:20170421T073039Z
LAST-MODIFIED:20170421T073039Z
UID:4752-1496224800-1496224800@www.taikoan.jp
SUMMARY:茶花勉強会
DESCRIPTION:
URL:https://www.taikoan.jp/event/%e8%8c%b6%e8%8a%b1%e5%8b%89%e5%bc%b7%e4%bc%9a/
LOCATION:直心庵\, 南区相模大野3-13-13 第2タカビル\, 相模原市\, 神奈川県\, 252-0303\, Japan
CATEGORIES:行事
END:VEVENT
END:VCALENDAR