BEGIN:VCALENDAR
VERSION:2.0
PRODID:-//待光庵 - ECPv4.8.2//NONSGML v1.0//EN
CALSCALE:GREGORIAN
METHOD:PUBLISH
X-WR-CALNAME:待光庵
X-ORIGINAL-URL:https://www.taikoan.jp
X-WR-CALDESC:Events for 待光庵
BEGIN:VEVENT
DTSTART;TZID=Asia/Tokyo:20170209T000000
DTEND;TZID=Asia/Tokyo:20170209T000000
DTSTAMP:20260421T020747
CREATED:20170119T134732Z
LAST-MODIFIED:20170119T134732Z
UID:4467-1486598400-1486598400@www.taikoan.jp
SUMMARY:茶道体験
DESCRIPTION:
URL:https://www.taikoan.jp/event/%e8%8c%b6%e9%81%93%e4%bd%93%e9%a8%93/
LOCATION:待光庵\, 南区相模大野3-13-13 第2タカビル\, 相模原市\, 神奈川県\, 252-0303\, Japan
CATEGORIES:行事
END:VEVENT
END:VCALENDAR