BEGIN:VCALENDAR
VERSION:2.0
PRODID:-//待光庵 - ECPv4.8.2//NONSGML v1.0//EN
CALSCALE:GREGORIAN
METHOD:PUBLISH
X-WR-CALNAME:待光庵
X-ORIGINAL-URL:https://www.taikoan.jp
X-WR-CALDESC:Events for 待光庵
BEGIN:VEVENT
DTSTART;VALUE=DATE:20140420
DTEND;VALUE=DATE:20140421
DTSTAMP:20260420T073746
CREATED:20140326T022730Z
LAST-MODIFIED:20140326T022730Z
UID:1171-1397952000-1398038399@www.taikoan.jp
SUMMARY:詩吟教室
DESCRIPTION:
URL:https://www.taikoan.jp/event/%e8%a9%a9%e5%90%9f%e6%95%99%e5%ae%a4/
CATEGORIES:行事
END:VEVENT
END:VCALENDAR