BEGIN:VCALENDAR
VERSION:2.0
PRODID:-//待光庵 - ECPv4.8.2//NONSGML v1.0//EN
CALSCALE:GREGORIAN
METHOD:PUBLISH
X-WR-CALNAME:待光庵
X-ORIGINAL-URL:https://www.taikoan.jp
X-WR-CALDESC:Events for 待光庵
BEGIN:VEVENT
DTSTART;TZID=Asia/Tokyo:20141130T090000
DTEND;TZID=Asia/Tokyo:20141130T090000
DTSTAMP:20260423T034426
CREATED:20141024T050727Z
LAST-MODIFIED:20141024T050940Z
UID:2044-1417338000-1417338000@www.taikoan.jp
SUMMARY:貸席
DESCRIPTION:
URL:https://www.taikoan.jp/event/%e8%b2%b8%e5%b8%ad-27/
CATEGORIES:行事
END:VEVENT
END:VCALENDAR