BEGIN:VCALENDAR
VERSION:2.0
PRODID:-//待光庵 - ECPv4.8.2//NONSGML v1.0//EN
CALSCALE:GREGORIAN
METHOD:PUBLISH
X-WR-CALNAME:待光庵
X-ORIGINAL-URL:https://www.taikoan.jp
X-WR-CALDESC:Events for 待光庵
BEGIN:VEVENT
DTSTART;VALUE=DATE:20170114
DTEND;VALUE=DATE:20170115
DTSTAMP:20260421T185200
CREATED:20161015T075002Z
LAST-MODIFIED:20161231T114018Z
UID:4172-1484352000-1484438399@www.taikoan.jp
SUMMARY:貸席
DESCRIPTION:
URL:https://www.taikoan.jp/event/%e8%b2%b8%e5%b8%ad-68/
LOCATION:待光庵\, 南区相模大野3-13-13 第2タカビル\, 相模原市\, 神奈川県\, 252-0303\, Japan
CATEGORIES:行事
END:VEVENT
END:VCALENDAR