BEGIN:VCALENDAR
VERSION:2.0
PRODID:-//待光庵 - ECPv4.8.2//NONSGML v1.0//EN
CALSCALE:GREGORIAN
METHOD:PUBLISH
X-WR-CALNAME:待光庵
X-ORIGINAL-URL:https://www.taikoan.jp
X-WR-CALDESC:Events for 待光庵
BEGIN:VEVENT
DTSTART;VALUE=DATE:20171029
DTEND;VALUE=DATE:20171030
DTSTAMP:20260422T000555
CREATED:20170914T064322Z
LAST-MODIFIED:20170914T064322Z
UID:5317-1509235200-1509321599@www.taikoan.jp
SUMMARY:貸席
DESCRIPTION:
URL:https://www.taikoan.jp/event/%e8%b2%b8%e5%b8%ad-73/
LOCATION:静幸庵\, 南区御園3-16-15\, 相模原市\, 神奈川県\, Japan
CATEGORIES:行事
END:VEVENT
END:VCALENDAR