BEGIN:VCALENDAR
VERSION:2.0
PRODID:-//待光庵 - ECPv4.8.2//NONSGML v1.0//EN
CALSCALE:GREGORIAN
METHOD:PUBLISH
X-WR-CALNAME:待光庵
X-ORIGINAL-URL:https://www.taikoan.jp
X-WR-CALDESC:Events for 待光庵
BEGIN:VEVENT
DTSTART;TZID=Asia/Tokyo:20140522T090000
DTEND;TZID=Asia/Tokyo:20140522T090000
DTSTAMP:20260420T073612
CREATED:20140425T015936Z
LAST-MODIFIED:20140426T031402Z
UID:1434-1400749200-1400749200@www.taikoan.jp
SUMMARY:貸席
DESCRIPTION:イベント \n\n
URL:https://www.taikoan.jp/event/%e8%b2%b8%e5%b8%ad/
LOCATION:待光庵\, 南区相模大野3-13-13 第2タカビル\, 相模原市\, 神奈川県\, 252-0303\, Japan
CATEGORIES:行事
END:VEVENT
END:VCALENDAR