BEGIN:VCALENDAR
VERSION:2.0
PRODID:-//待光庵 - ECPv4.8.2//NONSGML v1.0//EN
CALSCALE:GREGORIAN
METHOD:PUBLISH
X-WR-CALNAME:待光庵
X-ORIGINAL-URL:https://www.taikoan.jp
X-WR-CALDESC:Events for 待光庵
BEGIN:VEVENT
DTSTART;TZID=Asia/Tokyo:20140217T080000
DTEND;TZID=Asia/Tokyo:20140217T170000
DTSTAMP:20260420T055140
CREATED:20140217T054817Z
LAST-MODIFIED:20140217T054817Z
UID:623-1392624000-1392656400@www.taikoan.jp
SUMMARY:Xmasパーティー
DESCRIPTION:Xmasパーティーです。 \n
URL:https://www.taikoan.jp/event/xmas%e3%83%91%e3%83%bc%e3%83%86%e3%82%a3%e3%83%bc/
CATEGORIES:行事
END:VEVENT
END:VCALENDAR